BEGIN:VCALENDAR
VERSION:2.0
PRODID:icalendar-ruby
CALSCALE:GREGORIAN
METHOD:PUBLISH
BEGIN:VEVENT
DTSTAMP:20260419T165240Z
UID:116-482453@rgchurch.net
DTSTART:20260426T150000Z
DTEND:20260426T163000Z
CLASS:PUBLIC
CREATED:20260418T184646
DESCRIPTION:Join us for a special worship service led by our very own confe
 rence Bishop\, Larry Meadors!
LAST-MODIFIED:20260418T184646
LOCATION:
SUMMARY:Guest Speaker: Bishop Larry Meadors
URL;VALUE=URI:https://www.rgchurch.net/events/guest-speaker-bishop-larry-me
 adors/2026-04-26
ATTACH;FILENAME=Orange-and-Grey-Modern-Worship-Service-Instagram-Post-1.png
 ;FMTTYPE=image/png:https://dq5pwpg1q8ru0.cloudfront.net/2026/04/18/22/46/4
 5/582f7975-2fb2-4e3a-841b-3e7d84ba00a8/Orange-and-Grey-Modern-Worship-Serv
 ice-Instagram-Post-1.png
END:VEVENT
END:VCALENDAR
