BEGIN:VCALENDAR
VERSION:2.0
PRODID:icalendar-ruby
CALSCALE:GREGORIAN
METHOD:PUBLISH
BEGIN:VEVENT
DTSTAMP:20260423T130623Z
UID:54-493998@rgchurch.net
DTSTART:20261101T150000Z
DTEND:20261101T160000Z
CLASS:PUBLIC
CREATED:20260423T081430
DESCRIPTION:Join us every week for the study of God's Word! There are class
 es designed specifically for children\, teens\, and adults. Classes begin 
 at 10 AM every Sunday morning before our worship service.\nBilly McDaniel 
 and Stacey Knott teach the adult class. Brady Knott and Cherith Bradshaw t
 each the teen class (middle/high school). Lastly\, Sam Barb and Jessica Ha
 rris teach the children (preschool/elementary). \n 
LAST-MODIFIED:20260423T081430
LOCATION:
SUMMARY:Sunday School
URL;VALUE=URI:https://www.rgchurch.net/events/sunday-school/2026-11-01
ATTACH;FILENAME=Sunday-School-%28February-2025%29-%288-x-4-in%29.png;FMTTYP
 E=image/png:https://dq5pwpg1q8ru0.cloudfront.net/2025/02/25/14/43/32/10701
 b24-b4d8-4dc5-99df-b81403735a31/Sunday-School-%2528February-2025%2529-%252
 88-x-4-in%2529.png
END:VEVENT
END:VCALENDAR
