BEGIN:VCALENDAR
VERSION:2.0
PRODID:icalendar-ruby
CALSCALE:GREGORIAN
METHOD:PUBLISH
BEGIN:VEVENT
DTSTAMP:20260423T042406Z
UID:15-493404@rgchurch.net
DTSTART:20260923T223000Z
DTEND:20260923T234500Z
CLASS:PUBLIC
CREATED:20260422T224412
DESCRIPTION:How does God expect me to live as a Christian? Is God concerned
  about my though life? How do I remain in His favor? How do I handle relat
 ionships? How do I give? How do I pray? All these questions and more will 
 be answered in our series on the "Sermon on the Mount". At our Bible studi
 es\, you're welcome to ask questions and comment at any time. It's just a 
 laid-back time where we sing a song or two and dive into the Word together
 . 
LAST-MODIFIED:20260422T224412
LOCATION:
SUMMARY:Wednesday Bible Study
URL;VALUE=URI:https://www.rgchurch.net/events/wednesday-bible-study--15/202
 6-09-23
ATTACH;FILENAME=Black-Pink-Bold-Grunge-Youthful-Doodle-Missions-and-Outreac
 h-Church-Event-Invitation-Instagram-Post.png;FMTTYPE=image/png:https://dq5
 pwpg1q8ru0.cloudfront.net/2026/02/01/00/06/37/68e346ce-ddb4-47d4-902b-6871
 434994cf/Black-Pink-Bold-Grunge-Youthful-Doodle-Missions-and-Outreach-Chur
 ch-Event-Invitation-Instagram-Post.png
END:VEVENT
END:VCALENDAR
