BEGIN:VCALENDAR
VERSION:2.0
PRODID:icalendar-ruby
CALSCALE:GREGORIAN
METHOD:PUBLISH
BEGIN:VEVENT
DTSTAMP:20260423T044408Z
UID:49-493491@rgchurch.net
DTSTART:20260930T223000Z
DTEND:20260930T234500Z
CLASS:PUBLIC
CREATED:20260422T224412
DESCRIPTION:Every Wednesday night our youth group will be joining together 
 for a night filled with fun and games. They will join together for a small
  lesson and breakout groups.
LAST-MODIFIED:20260422T224412
LOCATION:
SUMMARY:Youth Night
URL;VALUE=URI:https://www.rgchurch.net/events/youth-night/2026-09-30
ATTACH;FILENAME=Youth-Group-Flyer-%2811-x-5.5-in%29-%28Business-Card-%28US%
 29%29.png;FMTTYPE=image/png:https://dq5pwpg1q8ru0.cloudfront.net/2025/12/2
 6/22/04/57/3b7aade6-44df-4f71-bf88-9dd88d5c31f3/Youth-Group-Flyer-%252811-
 x-5.5-in%2529-%2528Business-Card-%2528US%2529%2529.png
END:VEVENT
END:VCALENDAR
